BEGIN:VCALENDAR
VERSION:2.0
PRODID:-//Tunbridge Wells Chess Club - ECPv6.15.20//NONSGML v1.0//EN
CALSCALE:GREGORIAN
METHOD:PUBLISH
X-ORIGINAL-URL:https://tunbridgewellschess.co.uk
X-WR-CALDESC:Events for Tunbridge Wells Chess Club
REFRESH-INTERVAL;VALUE=DURATION:PT1H
X-Robots-Tag:noindex
X-PUBLISHED-TTL:PT1H
BEGIN:VTIMEZONE
TZID:Europe/London
BEGIN:DAYLIGHT
TZOFFSETFROM:+0000
TZOFFSETTO:+0100
TZNAME:BST
DTSTART:20240331T010000
END:DAYLIGHT
BEGIN:STANDARD
TZOFFSETFROM:+0100
TZOFFSETTO:+0000
TZNAME:GMT
DTSTART:20241027T010000
END:STANDARD
BEGIN:DAYLIGHT
TZOFFSETFROM:+0000
TZOFFSETTO:+0100
TZNAME:BST
DTSTART:20250330T010000
END:DAYLIGHT
BEGIN:STANDARD
TZOFFSETFROM:+0100
TZOFFSETTO:+0000
TZNAME:GMT
DTSTART:20251026T010000
END:STANDARD
BEGIN:DAYLIGHT
TZOFFSETFROM:+0000
TZOFFSETTO:+0100
TZNAME:BST
DTSTART:20260329T010000
END:DAYLIGHT
BEGIN:STANDARD
TZOFFSETFROM:+0100
TZOFFSETTO:+0000
TZNAME:GMT
DTSTART:20261025T010000
END:STANDARD
END:VTIMEZONE
BEGIN:VEVENT
DTSTART;TZID=Europe/London:20251201T193000
DTEND;TZID=Europe/London:20251201T223000
DTSTAMP:20260420T005109
CREATED:20250905T175800Z
LAST-MODIFIED:20250915T120231Z
UID:117-1764617400-1764628200@tunbridgewellschess.co.uk
SUMMARY:Club Night
DESCRIPTION:Weekly Club Night
URL:https://tunbridgewellschess.co.uk/event/club-night-12/
LOCATION:Tunbridge Wells Bridge Club\, 40 London Road\, Tunbridge Wells\, Kent\, TN1 1DL\, United Kingdom
END:VEVENT
BEGIN:VEVENT
DTSTART;TZID=Europe/London:20251208T193000
DTEND;TZID=Europe/London:20251208T223000
DTSTAMP:20260420T005109
CREATED:20250905T175800Z
LAST-MODIFIED:20250915T120221Z
UID:118-1765222200-1765233000@tunbridgewellschess.co.uk
SUMMARY:Club Night
DESCRIPTION:Weekly Club Night
URL:https://tunbridgewellschess.co.uk/event/club-night-13/
LOCATION:Tunbridge Wells Bridge Club\, 40 London Road\, Tunbridge Wells\, Kent\, TN1 1DL\, United Kingdom
END:VEVENT
BEGIN:VEVENT
DTSTART;TZID=Europe/London:20251215T193000
DTEND;TZID=Europe/London:20251215T223000
DTSTAMP:20260420T005109
CREATED:20250905T175800Z
LAST-MODIFIED:20250915T120213Z
UID:119-1765827000-1765837800@tunbridgewellschess.co.uk
SUMMARY:Club Night
DESCRIPTION:Weekly Club Night
URL:https://tunbridgewellschess.co.uk/event/club-night-14/
LOCATION:Tunbridge Wells Bridge Club\, 40 London Road\, Tunbridge Wells\, Kent\, TN1 1DL\, United Kingdom
END:VEVENT
END:VCALENDAR