BEGIN:VCALENDAR
VERSION:2.0
PRODID:-//Tunbridge Wells Chess Club - ECPv6.15.20//NONSGML v1.0//EN
CALSCALE:GREGORIAN
METHOD:PUBLISH
X-WR-CALNAME:Tunbridge Wells Chess Club
X-ORIGINAL-URL:https://tunbridgewellschess.co.uk
X-WR-CALDESC:Events for Tunbridge Wells Chess Club
REFRESH-INTERVAL;VALUE=DURATION:PT1H
X-Robots-Tag:noindex
X-PUBLISHED-TTL:PT1H
BEGIN:VTIMEZONE
TZID:Europe/London
BEGIN:DAYLIGHT
TZOFFSETFROM:+0000
TZOFFSETTO:+0100
TZNAME:BST
DTSTART:20250330T010000
END:DAYLIGHT
BEGIN:STANDARD
TZOFFSETFROM:+0100
TZOFFSETTO:+0000
TZNAME:GMT
DTSTART:20251026T010000
END:STANDARD
BEGIN:DAYLIGHT
TZOFFSETFROM:+0000
TZOFFSETTO:+0100
TZNAME:BST
DTSTART:20260329T010000
END:DAYLIGHT
BEGIN:STANDARD
TZOFFSETFROM:+0100
TZOFFSETTO:+0000
TZNAME:GMT
DTSTART:20261025T010000
END:STANDARD
BEGIN:DAYLIGHT
TZOFFSETFROM:+0000
TZOFFSETTO:+0100
TZNAME:BST
DTSTART:20270328T010000
END:DAYLIGHT
BEGIN:STANDARD
TZOFFSETFROM:+0100
TZOFFSETTO:+0000
TZNAME:GMT
DTSTART:20271031T010000
END:STANDARD
END:VTIMEZONE
BEGIN:VEVENT
DTSTART;TZID=Europe/London:20260518T193000
DTEND;TZID=Europe/London:20260518T223000
DTSTAMP:20260420T034519
CREATED:20250905T180538Z
LAST-MODIFIED:20250915T115941Z
UID:135-1779132600-1779143400@tunbridgewellschess.co.uk
SUMMARY:Club Night
DESCRIPTION:Weekly Club Night
URL:https://tunbridgewellschess.co.uk/event/club-night-30/
LOCATION:Tunbridge Wells Bridge Club\, 40 London Road\, Tunbridge Wells\, Kent\, TN1 1DL\, United Kingdom
END:VEVENT
BEGIN:VEVENT
DTSTART;TZID=Europe/London:20260601T193000
DTEND;TZID=Europe/London:20260601T223000
DTSTAMP:20260420T034519
CREATED:20250905T181348Z
LAST-MODIFIED:20250915T115934Z
UID:140-1780342200-1780353000@tunbridgewellschess.co.uk
SUMMARY:Club Night
DESCRIPTION:Weekly Club Night
URL:https://tunbridgewellschess.co.uk/event/club-night-31/
LOCATION:Tunbridge Wells Bridge Club\, 40 London Road\, Tunbridge Wells\, Kent\, TN1 1DL\, United Kingdom
END:VEVENT
BEGIN:VEVENT
DTSTART;TZID=Europe/London:20260608T193000
DTEND;TZID=Europe/London:20260608T223000
DTSTAMP:20260420T034519
CREATED:20250905T181348Z
LAST-MODIFIED:20250915T104540Z
UID:141-1780947000-1780957800@tunbridgewellschess.co.uk
SUMMARY:Club Night
DESCRIPTION:Weekly Club Night
URL:https://tunbridgewellschess.co.uk/event/club-night-32/
LOCATION:Tunbridge Wells Bridge Club\, 40 London Road\, Tunbridge Wells\, Kent\, TN1 1DL\, United Kingdom
END:VEVENT
BEGIN:VEVENT
DTSTART;TZID=Europe/London:20260615T193000
DTEND;TZID=Europe/London:20260615T223000
DTSTAMP:20260420T034519
CREATED:20250905T181348Z
LAST-MODIFIED:20250915T104526Z
UID:142-1781551800-1781562600@tunbridgewellschess.co.uk
SUMMARY:Club Night
DESCRIPTION:Weekly Club Night
URL:https://tunbridgewellschess.co.uk/event/club-night-33/
LOCATION:Tunbridge Wells Bridge Club\, 40 London Road\, Tunbridge Wells\, Kent\, TN1 1DL\, United Kingdom
END:VEVENT
BEGIN:VEVENT
DTSTART;TZID=Europe/London:20260622T193000
DTEND;TZID=Europe/London:20260622T223000
DTSTAMP:20260420T034519
CREATED:20250905T181348Z
LAST-MODIFIED:20250915T104500Z
UID:143-1782156600-1782167400@tunbridgewellschess.co.uk
SUMMARY:Club Night
DESCRIPTION:Weekly Club Night
URL:https://tunbridgewellschess.co.uk/event/club-night-34/
LOCATION:Tunbridge Wells Bridge Club\, 40 London Road\, Tunbridge Wells\, Kent\, TN1 1DL\, United Kingdom
END:VEVENT
BEGIN:VEVENT
DTSTART;TZID=Europe/London:20260629T193000
DTEND;TZID=Europe/London:20260629T223000
DTSTAMP:20260420T034519
CREATED:20250905T181349Z
LAST-MODIFIED:20250915T103823Z
UID:144-1782761400-1782772200@tunbridgewellschess.co.uk
SUMMARY:Club Night
DESCRIPTION:Weekly Club Night
URL:https://tunbridgewellschess.co.uk/event/club-night-35/
LOCATION:Tunbridge Wells Bridge Club\, 40 London Road\, Tunbridge Wells\, Kent\, TN1 1DL\, United Kingdom
END:VEVENT
END:VCALENDAR