BEGIN:VCALENDAR
VERSION:2.0
PRODID:-//Tunbridge Wells Chess Club - ECPv6.15.20//NONSGML v1.0//EN
CALSCALE:GREGORIAN
METHOD:PUBLISH
X-WR-CALNAME:Tunbridge Wells Chess Club
X-ORIGINAL-URL:https://tunbridgewellschess.co.uk
X-WR-CALDESC:Events for Tunbridge Wells Chess Club
REFRESH-INTERVAL;VALUE=DURATION:PT1H
X-Robots-Tag:noindex
X-PUBLISHED-TTL:PT1H
BEGIN:VTIMEZONE
TZID:Europe/London
BEGIN:DAYLIGHT
TZOFFSETFROM:+0000
TZOFFSETTO:+0100
TZNAME:BST
DTSTART:20240331T010000
END:DAYLIGHT
BEGIN:STANDARD
TZOFFSETFROM:+0100
TZOFFSETTO:+0000
TZNAME:GMT
DTSTART:20241027T010000
END:STANDARD
BEGIN:DAYLIGHT
TZOFFSETFROM:+0000
TZOFFSETTO:+0100
TZNAME:BST
DTSTART:20250330T010000
END:DAYLIGHT
BEGIN:STANDARD
TZOFFSETFROM:+0100
TZOFFSETTO:+0000
TZNAME:GMT
DTSTART:20251026T010000
END:STANDARD
BEGIN:DAYLIGHT
TZOFFSETFROM:+0000
TZOFFSETTO:+0100
TZNAME:BST
DTSTART:20260329T010000
END:DAYLIGHT
BEGIN:STANDARD
TZOFFSETFROM:+0100
TZOFFSETTO:+0000
TZNAME:GMT
DTSTART:20261025T010000
END:STANDARD
BEGIN:DAYLIGHT
TZOFFSETFROM:+0000
TZOFFSETTO:+0100
TZNAME:BST
DTSTART:20270328T010000
END:DAYLIGHT
BEGIN:STANDARD
TZOFFSETFROM:+0100
TZOFFSETTO:+0000
TZNAME:GMT
DTSTART:20271031T010000
END:STANDARD
END:VTIMEZONE
BEGIN:VEVENT
DTSTART;TZID=Europe/London:20250908T193000
DTEND;TZID=Europe/London:20250908T200000
DTSTAMP:20260420T074050
CREATED:20250905T173416Z
LAST-MODIFIED:20250915T120350Z
UID:90-1757359800-1757361600@tunbridgewellschess.co.uk
SUMMARY:AGM
DESCRIPTION:
URL:https://tunbridgewellschess.co.uk/event/agm/
LOCATION:Tunbridge Wells Bridge Club\, 40 London Road\, Tunbridge Wells\, Kent\, TN1 1DL\, United Kingdom
END:VEVENT
BEGIN:VEVENT
DTSTART;TZID=Europe/London:20250908T193000
DTEND;TZID=Europe/London:20250908T223000
DTSTAMP:20260420T074050
CREATED:20250905T175744Z
LAST-MODIFIED:20250915T120339Z
UID:101-1757359800-1757370600@tunbridgewellschess.co.uk
SUMMARY:Club Night
DESCRIPTION:Weekly Club Night
URL:https://tunbridgewellschess.co.uk/event/club-night/
LOCATION:Tunbridge Wells Bridge Club\, 40 London Road\, Tunbridge Wells\, Kent\, TN1 1DL\, United Kingdom
END:VEVENT
BEGIN:VEVENT
DTSTART;TZID=Europe/London:20250915T193000
DTEND;TZID=Europe/London:20250915T223000
DTSTAMP:20260420T074050
CREATED:20250905T175744Z
LAST-MODIFIED:20250915T103900Z
UID:102-1757964600-1757975400@tunbridgewellschess.co.uk
SUMMARY:Club Night
DESCRIPTION:Weekly Club Night
URL:https://tunbridgewellschess.co.uk/event/club-night-2/
LOCATION:Tunbridge Wells Bridge Club\, 40 London Road\, Tunbridge Wells\, Kent\, TN1 1DL\, United Kingdom
END:VEVENT
BEGIN:VEVENT
DTSTART;TZID=Europe/London:20250922T193000
DTEND;TZID=Europe/London:20250922T223000
DTSTAMP:20260420T074050
CREATED:20250905T175744Z
LAST-MODIFIED:20250915T120329Z
UID:103-1758569400-1758580200@tunbridgewellschess.co.uk
SUMMARY:Club Night
DESCRIPTION:Weekly Club Night
URL:https://tunbridgewellschess.co.uk/event/club-night-3/
LOCATION:Tunbridge Wells Bridge Club\, 40 London Road\, Tunbridge Wells\, Kent\, TN1 1DL\, United Kingdom
END:VEVENT
BEGIN:VEVENT
DTSTART;TZID=Europe/London:20250929T193000
DTEND;TZID=Europe/London:20250929T223000
DTSTAMP:20260420T074050
CREATED:20250905T175744Z
LAST-MODIFIED:20250915T120323Z
UID:104-1759174200-1759185000@tunbridgewellschess.co.uk
SUMMARY:Club Night
DESCRIPTION:Weekly Club Night
URL:https://tunbridgewellschess.co.uk/event/club-night-4/
LOCATION:Tunbridge Wells Bridge Club\, 40 London Road\, Tunbridge Wells\, Kent\, TN1 1DL\, United Kingdom
END:VEVENT
BEGIN:VEVENT
DTSTART;TZID=Europe/London:20251006T193000
DTEND;TZID=Europe/London:20251006T223000
DTSTAMP:20260420T074050
CREATED:20250905T175744Z
LAST-MODIFIED:20250915T120317Z
UID:105-1759779000-1759789800@tunbridgewellschess.co.uk
SUMMARY:Club Night
DESCRIPTION:Weekly Club Night
URL:https://tunbridgewellschess.co.uk/event/club-night-5/
LOCATION:Tunbridge Wells Bridge Club\, 40 London Road\, Tunbridge Wells\, Kent\, TN1 1DL\, United Kingdom
END:VEVENT
BEGIN:VEVENT
DTSTART;TZID=Europe/London:20251013T193000
DTEND;TZID=Europe/London:20251013T223000
DTSTAMP:20260420T074050
CREATED:20250905T175744Z
LAST-MODIFIED:20250915T120311Z
UID:106-1760383800-1760394600@tunbridgewellschess.co.uk
SUMMARY:Club Night
DESCRIPTION:Weekly Club Night
URL:https://tunbridgewellschess.co.uk/event/club-night-6/
LOCATION:Tunbridge Wells Bridge Club\, 40 London Road\, Tunbridge Wells\, Kent\, TN1 1DL\, United Kingdom
END:VEVENT
BEGIN:VEVENT
DTSTART;TZID=Europe/London:20251027T193000
DTEND;TZID=Europe/London:20251027T223000
DTSTAMP:20260420T074050
CREATED:20250905T175744Z
LAST-MODIFIED:20250915T120304Z
UID:107-1761593400-1761604200@tunbridgewellschess.co.uk
SUMMARY:Club Night
DESCRIPTION:Weekly Club Night
URL:https://tunbridgewellschess.co.uk/event/club-night-7/
LOCATION:Tunbridge Wells Bridge Club\, 40 London Road\, Tunbridge Wells\, Kent\, TN1 1DL\, United Kingdom
END:VEVENT
BEGIN:VEVENT
DTSTART;TZID=Europe/London:20251027T193000
DTEND;TZID=Europe/London:20251027T223000
DTSTAMP:20260420T074050
CREATED:20251003T174302Z
LAST-MODIFIED:20251003T174856Z
UID:339-1761593400-1761604200@tunbridgewellschess.co.uk
SUMMARY:Club Championship - Round 1
DESCRIPTION:Round 1 of the Tunbridge Wells Chess Club Championship 2025/26. \n\nTime control: 60 minutes + 10 seconds increment (per move)\nPairings & results: will be published on the\n    \n      Club Championship page\n    \n  \nEligibility: Open to all TWCC members who are\n    ECF members (Bronze or higher). See our\n    \n      guide to ECF membership\n    .\n  \n\nCasual play is also available on the night as part of our normal\n  Club Night\n  — all members are welcome\, even if not competing.
URL:https://tunbridgewellschess.co.uk/event/club-championship-round-1/
LOCATION:Tunbridge Wells Bridge Club\, 40 London Road\, Tunbridge Wells\, Kent\, TN1 1DL\, United Kingdom
END:VEVENT
BEGIN:VEVENT
DTSTART;TZID=Europe/London:20251103T193000
DTEND;TZID=Europe/London:20251103T223000
DTSTAMP:20260420T074050
CREATED:20250905T175744Z
LAST-MODIFIED:20250915T120258Z
UID:108-1762198200-1762209000@tunbridgewellschess.co.uk
SUMMARY:Club Night
DESCRIPTION:Weekly Club Night
URL:https://tunbridgewellschess.co.uk/event/club-night-8/
LOCATION:Tunbridge Wells Bridge Club\, 40 London Road\, Tunbridge Wells\, Kent\, TN1 1DL\, United Kingdom
END:VEVENT
BEGIN:VEVENT
DTSTART;TZID=Europe/London:20251110T193000
DTEND;TZID=Europe/London:20251110T223000
DTSTAMP:20260420T074050
CREATED:20250905T175744Z
LAST-MODIFIED:20250915T120252Z
UID:109-1762803000-1762813800@tunbridgewellschess.co.uk
SUMMARY:Club Night
DESCRIPTION:Weekly Club Night
URL:https://tunbridgewellschess.co.uk/event/club-night-9/
LOCATION:Tunbridge Wells Bridge Club\, 40 London Road\, Tunbridge Wells\, Kent\, TN1 1DL\, United Kingdom
END:VEVENT
BEGIN:VEVENT
DTSTART;TZID=Europe/London:20251117T193000
DTEND;TZID=Europe/London:20251117T223000
DTSTAMP:20260420T074050
CREATED:20250905T175744Z
LAST-MODIFIED:20250915T120245Z
UID:110-1763407800-1763418600@tunbridgewellschess.co.uk
SUMMARY:Club Night
DESCRIPTION:Weekly Club Night
URL:https://tunbridgewellschess.co.uk/event/club-night-10/
LOCATION:Tunbridge Wells Bridge Club\, 40 London Road\, Tunbridge Wells\, Kent\, TN1 1DL\, United Kingdom
END:VEVENT
BEGIN:VEVENT
DTSTART;TZID=Europe/London:20251124T193000
DTEND;TZID=Europe/London:20251124T223000
DTSTAMP:20260420T074050
CREATED:20250905T175759Z
LAST-MODIFIED:20250915T120237Z
UID:116-1764012600-1764023400@tunbridgewellschess.co.uk
SUMMARY:Club Night
DESCRIPTION:Weekly Club Night
URL:https://tunbridgewellschess.co.uk/event/club-night-11/
LOCATION:Tunbridge Wells Bridge Club\, 40 London Road\, Tunbridge Wells\, Kent\, TN1 1DL\, United Kingdom
END:VEVENT
BEGIN:VEVENT
DTSTART;TZID=Europe/London:20251124T193000
DTEND;TZID=Europe/London:20251124T223000
DTSTAMP:20260420T074050
CREATED:20251003T174417Z
LAST-MODIFIED:20251003T174417Z
UID:341-1764012600-1764023400@tunbridgewellschess.co.uk
SUMMARY:Club Championship - Round 2
DESCRIPTION:Round 2 of the Tunbridge Wells Chess Club Championship 2025/26. \n\nTime control: 60 minutes + 10 seconds increment (per move)\nPairings & results: will be published on the\n    \n      Club Championship page\n    \n  \nEligibility: Open to all TWCC members who are\n    ECF members (Bronze or higher). See our\n    \n      guide to ECF membership\n    .\n  \n\nCasual play is also available on the night as part of our normal\n  Club Night\n  — all members are welcome\, even if not competing.
URL:https://tunbridgewellschess.co.uk/event/club-championship-round-2/
LOCATION:Tunbridge Wells Bridge Club\, 40 London Road\, Tunbridge Wells\, Kent\, TN1 1DL\, United Kingdom
END:VEVENT
BEGIN:VEVENT
DTSTART;TZID=Europe/London:20251201T193000
DTEND;TZID=Europe/London:20251201T223000
DTSTAMP:20260420T074050
CREATED:20250905T175800Z
LAST-MODIFIED:20250915T120231Z
UID:117-1764617400-1764628200@tunbridgewellschess.co.uk
SUMMARY:Club Night
DESCRIPTION:Weekly Club Night
URL:https://tunbridgewellschess.co.uk/event/club-night-12/
LOCATION:Tunbridge Wells Bridge Club\, 40 London Road\, Tunbridge Wells\, Kent\, TN1 1DL\, United Kingdom
END:VEVENT
BEGIN:VEVENT
DTSTART;TZID=Europe/London:20251208T193000
DTEND;TZID=Europe/London:20251208T223000
DTSTAMP:20260420T074050
CREATED:20250905T175800Z
LAST-MODIFIED:20250915T120221Z
UID:118-1765222200-1765233000@tunbridgewellschess.co.uk
SUMMARY:Club Night
DESCRIPTION:Weekly Club Night
URL:https://tunbridgewellschess.co.uk/event/club-night-13/
LOCATION:Tunbridge Wells Bridge Club\, 40 London Road\, Tunbridge Wells\, Kent\, TN1 1DL\, United Kingdom
END:VEVENT
BEGIN:VEVENT
DTSTART;TZID=Europe/London:20251215T193000
DTEND;TZID=Europe/London:20251215T223000
DTSTAMP:20260420T074050
CREATED:20250905T175800Z
LAST-MODIFIED:20250915T120213Z
UID:119-1765827000-1765837800@tunbridgewellschess.co.uk
SUMMARY:Club Night
DESCRIPTION:Weekly Club Night
URL:https://tunbridgewellschess.co.uk/event/club-night-14/
LOCATION:Tunbridge Wells Bridge Club\, 40 London Road\, Tunbridge Wells\, Kent\, TN1 1DL\, United Kingdom
END:VEVENT
BEGIN:VEVENT
DTSTART;TZID=Europe/London:20260105T193000
DTEND;TZID=Europe/London:20260105T223000
DTSTAMP:20260420T074050
CREATED:20250905T175800Z
LAST-MODIFIED:20250915T120206Z
UID:120-1767641400-1767652200@tunbridgewellschess.co.uk
SUMMARY:Club Night
DESCRIPTION:Weekly Club Night
URL:https://tunbridgewellschess.co.uk/event/club-night-15/
LOCATION:Tunbridge Wells Bridge Club\, 40 London Road\, Tunbridge Wells\, Kent\, TN1 1DL\, United Kingdom
END:VEVENT
BEGIN:VEVENT
DTSTART;TZID=Europe/London:20260112T193000
DTEND;TZID=Europe/London:20260112T223000
DTSTAMP:20260420T074050
CREATED:20250905T175814Z
LAST-MODIFIED:20250915T120200Z
UID:121-1768246200-1768257000@tunbridgewellschess.co.uk
SUMMARY:Club Night
DESCRIPTION:Weekly Club Night
URL:https://tunbridgewellschess.co.uk/event/club-night-16/
LOCATION:Tunbridge Wells Bridge Club\, 40 London Road\, Tunbridge Wells\, Kent\, TN1 1DL\, United Kingdom
END:VEVENT
BEGIN:VEVENT
DTSTART;TZID=Europe/London:20260119T193000
DTEND;TZID=Europe/London:20260119T223000
DTSTAMP:20260420T074050
CREATED:20250905T175815Z
LAST-MODIFIED:20250915T120154Z
UID:122-1768851000-1768861800@tunbridgewellschess.co.uk
SUMMARY:Club Night
DESCRIPTION:Weekly Club Night
URL:https://tunbridgewellschess.co.uk/event/club-night-17/
LOCATION:Tunbridge Wells Bridge Club\, 40 London Road\, Tunbridge Wells\, Kent\, TN1 1DL\, United Kingdom
END:VEVENT
BEGIN:VEVENT
DTSTART;TZID=Europe/London:20260126T193000
DTEND;TZID=Europe/London:20260126T223000
DTSTAMP:20260420T074050
CREATED:20250905T175815Z
LAST-MODIFIED:20250915T120147Z
UID:123-1769455800-1769466600@tunbridgewellschess.co.uk
SUMMARY:Club Night
DESCRIPTION:Weekly Club Night
URL:https://tunbridgewellschess.co.uk/event/club-night-18/
LOCATION:Tunbridge Wells Bridge Club\, 40 London Road\, Tunbridge Wells\, Kent\, TN1 1DL\, United Kingdom
END:VEVENT
BEGIN:VEVENT
DTSTART;TZID=Europe/London:20260126T193000
DTEND;TZID=Europe/London:20260126T223000
DTSTAMP:20260420T074050
CREATED:20251003T174511Z
LAST-MODIFIED:20251003T174511Z
UID:344-1769455800-1769466600@tunbridgewellschess.co.uk
SUMMARY:Club Championship - Round 3
DESCRIPTION:Round 3 of the Tunbridge Wells Chess Club Championship 2025/26. \n\nTime control: 60 minutes + 10 seconds increment (per move)\nPairings & results: will be published on the\n    \n      Club Championship page\n    \n  \nEligibility: Open to all TWCC members who are\n    ECF members (Bronze or higher). See our\n    \n      guide to ECF membership\n    .\n  \n\nCasual play is also available on the night as part of our normal\n  Club Night\n  — all members are welcome\, even if not competing.
URL:https://tunbridgewellschess.co.uk/event/club-championship-round-3/
LOCATION:Tunbridge Wells Bridge Club\, 40 London Road\, Tunbridge Wells\, Kent\, TN1 1DL\, United Kingdom
END:VEVENT
BEGIN:VEVENT
DTSTART;TZID=Europe/London:20260202T193000
DTEND;TZID=Europe/London:20260202T223000
DTSTAMP:20260420T074050
CREATED:20250905T175815Z
LAST-MODIFIED:20250915T120134Z
UID:124-1770060600-1770071400@tunbridgewellschess.co.uk
SUMMARY:Club Night
DESCRIPTION:Weekly Club Night
URL:https://tunbridgewellschess.co.uk/event/club-night-19/
LOCATION:Tunbridge Wells Bridge Club\, 40 London Road\, Tunbridge Wells\, Kent\, TN1 1DL\, United Kingdom
END:VEVENT
BEGIN:VEVENT
DTSTART;TZID=Europe/London:20260209T193000
DTEND;TZID=Europe/London:20260209T223000
DTSTAMP:20260420T074050
CREATED:20250905T175815Z
LAST-MODIFIED:20250915T120127Z
UID:125-1770665400-1770676200@tunbridgewellschess.co.uk
SUMMARY:Club Night
DESCRIPTION:Weekly Club Night
URL:https://tunbridgewellschess.co.uk/event/club-night-20/
LOCATION:Tunbridge Wells Bridge Club\, 40 London Road\, Tunbridge Wells\, Kent\, TN1 1DL\, United Kingdom
END:VEVENT
BEGIN:VEVENT
DTSTART;TZID=Europe/London:20260223T193000
DTEND;TZID=Europe/London:20260223T223000
DTSTAMP:20260420T074050
CREATED:20250905T175819Z
LAST-MODIFIED:20250915T120120Z
UID:126-1771875000-1771885800@tunbridgewellschess.co.uk
SUMMARY:Club Night
DESCRIPTION:Weekly Club Night
URL:https://tunbridgewellschess.co.uk/event/club-night-21/
LOCATION:Tunbridge Wells Bridge Club\, 40 London Road\, Tunbridge Wells\, Kent\, TN1 1DL\, United Kingdom
END:VEVENT
BEGIN:VEVENT
DTSTART;TZID=Europe/London:20260223T193000
DTEND;TZID=Europe/London:20260223T223000
DTSTAMP:20260420T074050
CREATED:20251003T174609Z
LAST-MODIFIED:20251003T174609Z
UID:347-1771875000-1771885800@tunbridgewellschess.co.uk
SUMMARY:Club Championship - Round 4
DESCRIPTION:Round 4 of the Tunbridge Wells Chess Club Championship 2025/26. \n\nTime control: 60 minutes + 10 seconds increment (per move)\nPairings & results: will be published on the\n    \n      Club Championship page\n    \n  \nEligibility: Open to all TWCC members who are\n    ECF members (Bronze or higher). See our\n    \n      guide to ECF membership\n    .\n  \n\nCasual play is also available on the night as part of our normal\n  Club Night\n  — all members are welcome\, even if not competing.
URL:https://tunbridgewellschess.co.uk/event/club-championship-round-4/
LOCATION:Tunbridge Wells Bridge Club\, 40 London Road\, Tunbridge Wells\, Kent\, TN1 1DL\, United Kingdom
END:VEVENT
BEGIN:VEVENT
DTSTART;TZID=Europe/London:20260302T193000
DTEND;TZID=Europe/London:20260302T223000
DTSTAMP:20260420T074050
CREATED:20250905T175819Z
LAST-MODIFIED:20250915T120059Z
UID:127-1772479800-1772490600@tunbridgewellschess.co.uk
SUMMARY:Club Night
DESCRIPTION:Weekly Club Night
URL:https://tunbridgewellschess.co.uk/event/club-night-22/
LOCATION:Tunbridge Wells Bridge Club\, 40 London Road\, Tunbridge Wells\, Kent\, TN1 1DL\, United Kingdom
END:VEVENT
BEGIN:VEVENT
DTSTART;TZID=Europe/London:20260309T193000
DTEND;TZID=Europe/London:20260309T223000
DTSTAMP:20260420T074050
CREATED:20250905T175819Z
LAST-MODIFIED:20250915T120047Z
UID:128-1773084600-1773095400@tunbridgewellschess.co.uk
SUMMARY:Club Night
DESCRIPTION:Weekly Club Night
URL:https://tunbridgewellschess.co.uk/event/club-night-23/
LOCATION:Tunbridge Wells Bridge Club\, 40 London Road\, Tunbridge Wells\, Kent\, TN1 1DL\, United Kingdom
END:VEVENT
BEGIN:VEVENT
DTSTART;TZID=Europe/London:20260316T193000
DTEND;TZID=Europe/London:20260316T223000
DTSTAMP:20260420T074050
CREATED:20250905T175819Z
LAST-MODIFIED:20250915T120037Z
UID:129-1773689400-1773700200@tunbridgewellschess.co.uk
SUMMARY:Club Night
DESCRIPTION:Weekly Club Night
URL:https://tunbridgewellschess.co.uk/event/club-night-24/
LOCATION:Tunbridge Wells Bridge Club\, 40 London Road\, Tunbridge Wells\, Kent\, TN1 1DL\, United Kingdom
END:VEVENT
BEGIN:VEVENT
DTSTART;TZID=Europe/London:20260323T193000
DTEND;TZID=Europe/London:20260323T223000
DTSTAMP:20260420T074050
CREATED:20250905T175819Z
LAST-MODIFIED:20250915T120027Z
UID:130-1774294200-1774305000@tunbridgewellschess.co.uk
SUMMARY:Club Night
DESCRIPTION:Weekly Club Night
URL:https://tunbridgewellschess.co.uk/event/club-night-25/
LOCATION:Tunbridge Wells Bridge Club\, 40 London Road\, Tunbridge Wells\, Kent\, TN1 1DL\, United Kingdom
END:VEVENT
END:VCALENDAR